BEGIN:VCALENDAR
VERSION:2.0
PRODID:-//SPCA of Southwest Michigan - ECPv6.15.20//NONSGML v1.0//EN
CALSCALE:GREGORIAN
METHOD:PUBLISH
X-ORIGINAL-URL:https://www.spcaswmich.org
X-WR-CALDESC:Events for SPCA of Southwest Michigan
REFRESH-INTERVAL;VALUE=DURATION:PT1H
X-Robots-Tag:noindex
X-PUBLISHED-TTL:PT1H
BEGIN:VTIMEZONE
TZID:UTC
BEGIN:STANDARD
TZOFFSETFROM:+0000
TZOFFSETTO:+0000
TZNAME:UTC
DTSTART:20190101T000000
END:STANDARD
END:VTIMEZONE
BEGIN:VEVENT
DTSTART;TZID=UTC:20200418T120000
DTEND;TZID=UTC:20200418T150000
DTSTAMP:20260425T195715
CREATED:20190118T010513Z
LAST-MODIFIED:20200220T210842Z
UID:28660-1587211200-1587222000@www.spcaswmich.org
SUMMARY:4rd Annual Puppy & Kitten Shower
DESCRIPTION:Please join us to celebrate – and prepare for – Puppy and Kitten Season 2020! \nWe’ll be hosting a day of fun activities\, games\, and prizes\, while collecting much-needed supplies for the upcoming seasonal flux of puppies and kittens in the shelter! \nHelp us help them by bringing by a gift to assist us with the many puppies and kittens we expect to care for this season. \nPlease visit our baby registry at \nhttps://www.amazon.com/baby-reg/spcasw-mich-april-2020-kalamazoo/1LOSNKP68HZ49
URL:https://www.spcaswmich.org/event/3rd-annual-puppy-kitten-shower/
LOCATION:SPCA\, 6955 West KL Avenue\, Kalamazoo\, United States (US) — Michigan\, 49009
ATTACH;FMTTYPE=image/png:https://www.spcaswmich.org/wp-content/uploads/2019/01/shower.png
END:VEVENT
END:VCALENDAR