BEGIN:VCALENDAR
VERSION:2.0
PRODID:-//SPCA of Southwest Michigan - ECPv6.15.20//NONSGML v1.0//EN
CALSCALE:GREGORIAN
METHOD:PUBLISH
X-ORIGINAL-URL:https://www.spcaswmich.org
X-WR-CALDESC:Events for SPCA of Southwest Michigan
REFRESH-INTERVAL;VALUE=DURATION:PT1H
X-Robots-Tag:noindex
X-PUBLISHED-TTL:PT1H
BEGIN:VTIMEZONE
TZID:UTC
BEGIN:STANDARD
TZOFFSETFROM:+0000
TZOFFSETTO:+0000
TZNAME:UTC
DTSTART:20190101T000000
END:STANDARD
END:VTIMEZONE
BEGIN:VEVENT
DTSTART;TZID=UTC:20200214T110000
DTEND;TZID=UTC:20200215T010000
DTSTAMP:20260425T153534
CREATED:20190125T022128Z
LAST-MODIFIED:20200114T220658Z
UID:28664-1581678000-1581728400@www.spcaswmich.org
SUMMARY:Kalamazoo Beer Exchange Puppy Love
DESCRIPTION:Please join us on Valentine’s Day\, February 14th\, at the Kalamazoo Beer Exchange any time from 11 a.m. – 1 a.m.! \nKalamazoo Beer Exchange is generously donating 25% of all proceeds on this day to the SPCA of SW Michigan\, so bring your friends\, bring your family – or bring your S.O. for a romantic afternoon of great food and drinks – all while supporting our animals! \nWe’ll be there with adorable\, adoptable puppies from 6 p.m. to 8 p.m. so no matter what your status\, you can be sure to grab a smooch!
URL:https://www.spcaswmich.org/event/kalamazoo-beer-exchange-puppy-love/
LOCATION:Kalamazoo Beer Exchange\, 211 E Water St\, Kalamazoo\, MI\, 49007\, United States
ATTACH;FMTTYPE=image/jpeg:https://www.spcaswmich.org/wp-content/uploads/2019/01/Puppy-Love-2.jpg
END:VEVENT
END:VCALENDAR